BEGIN:VCALENDAR
VERSION:2.0
PRODID:-//Carolina Mountain Vacation Rentals - ECPv6.0.13.1//NONSGML v1.0//EN
CALSCALE:GREGORIAN
METHOD:PUBLISH
X-WR-CALNAME:Carolina Mountain Vacation Rentals
X-ORIGINAL-URL:https://www.carolinamtnvacations.com
X-WR-CALDESC:Events for Carolina Mountain Vacation Rentals
REFRESH-INTERVAL;VALUE=DURATION:PT1H
X-Robots-Tag:noindex
X-PUBLISHED-TTL:PT1H
BEGIN:VTIMEZONE
TZID:America/New_York
BEGIN:DAYLIGHT
TZOFFSETFROM:-0500
TZOFFSETTO:-0400
TZNAME:EDT
DTSTART:20250309T070000
END:DAYLIGHT
BEGIN:STANDARD
TZOFFSETFROM:-0400
TZOFFSETTO:-0500
TZNAME:EST
DTSTART:20251102T060000
END:STANDARD
END:VTIMEZONE
BEGIN:VEVENT
DTSTART;TZID=America/New_York:20250719T110000
DTEND;TZID=America/New_York:20250719T120000
DTSTAMP:20260421T012019
CREATED:20250718T184854Z
LAST-MODIFIED:20250718T184854Z
UID:10002022-1752922800-1752926400@www.carolinamtnvacations.com
SUMMARY:Qi Gong/Thai Chi
DESCRIPTION:Every Saturday at 11 am\, I will keep updated if days or times change.\nProceeds go as a donation
URL:https://www.carolinamtnvacations.com/event/qi-gong-thai-chi/
LOCATION:Liar’s Loft Creative Haven and Imaginarium\, 134 S Big Horse Creek Rd\, Lansing\, NC\, 28643\, United States
END:VEVENT
END:VCALENDAR